BEGIN:VCALENDAR
VERSION:2.0
PRODID:-//Plone.org//NONSGML plone.app.event//EN
X-WR-TIMEZONE:Europe/Rome
BEGIN:VEVENT
SUMMARY:Fuori Rotta al Caffè del Prato
DTSTART;TZID=Europe/Rome:20260127T180000
DTEND;TZID=Europe/Rome:20260609T200000
DTSTAMP:20260419T152101Z
UID:3b95798d706848ada639d5ce037db83e@www.comune.parma.it
CATEGORIES:Home page
CREATED:20260122T101636Z
DESCRIPTION:Dal 27 gennaio al 9 giugno il Caffè del Prato ospita una rass
 egna letteraria a cura della libreria Diari di Bordo
LAST-MODIFIED:20260306T122621Z
URL:https://www.comune.parma.it/api/it/vivere-parma/eventi/fuori-rotta-al-
 caffe-del-prato
END:VEVENT
BEGIN:VEVENT
SUMMARY:I Concerti della Casa della Musica - Fuego Fatuo
DTSTART;TZID=Europe/Rome:20260202T203000
DTEND;TZID=Europe/Rome:20261130T230000
DTSTAMP:20260419T152101Z
UID:97b103eb03844709ab44bec336db8ac8@www.comune.parma.it
CREATED:20260126T113449Z
DESCRIPTION:Dal 2 febbraio al 30 novembre la XXXIV edizione della rassegna
  organizzata da Società dei Concerti
LAST-MODIFIED:20260126T113940Z
URL:https://www.comune.parma.it/api/it/vivere-parma/eventi/i-concerti-dell
 a-casa-della-musica-fuego-fatuo
END:VEVENT
BEGIN:VEVENT
SUMMARY:Caleidoscopio. Nuovi scenari di un Vecchio Continente
DTSTART;TZID=Europe/Rome:20260220T183000
DTEND;TZID=Europe/Rome:20260510T200000
DTSTAMP:20260419T152101Z
UID:4a7f9e8dbf874dd693747852057f8225@www.comune.parma.it
CATEGORIES:Home page
CREATED:20260209T085848Z
DESCRIPTION:Torna la rassegna dedicata all’analisi degli scenari interna
 zionali e degli equilibri globali\, con ospiti di rilievo nazionale.
LAST-MODIFIED:20260415T102226Z
URL:https://www.comune.parma.it/api/it/vivere-parma/eventi/caleidoscopio-n
 uovi-scenari-di-un-vecchio-continente-2026
END:VEVENT
BEGIN:VEVENT
SUMMARY:Intersezioni & Next Generation
DTSTART;TZID=Europe/Rome:20260306T100000
DTEND;TZID=Europe/Rome:20260422T110000
DTSTAMP:20260419T152101Z
UID:a2f0887bdad845039c311f84ed8b2c02@www.comune.parma.it
CATEGORIES:Home page
CREATED:20260303T100742Z
DESCRIPTION:Dal 6 marzo al 22 aprile\, sei appuntamenti di danza e arti pe
 rformative curata da Artemis Danza.
LAST-MODIFIED:20260303T102041Z
URL:https://www.comune.parma.it/api/it/vivere-parma/eventi/intersezioni-ne
 xt-generation
END:VEVENT
BEGIN:VEVENT
SUMMARY:Bernardo Bertolucci. Il Novecento
DTSTART;TZID=Europe/Rome:20260327T083000
DTEND;TZID=Europe/Rome:20260726T180000
DTSTAMP:20260419T152101Z
UID:ae133365590f40cda5b6494d50122ed0@www.comune.parma.it
CATEGORIES:Home page
CREATED:20260306T135707Z
DESCRIPTION:Dal 27 marzo\, a Palazzo del Governatore\, una mostra che intr
 eccia arte\, letteratura\, fotografia e musica in occasione del cinquantes
 imo anniversario di un film che ha segnato la storia del cinema.
LAST-MODIFIED:20260323T094416Z
URL:https://www.comune.parma.it/api/it/vivere-parma/eventi/bernardo-bertol
 ucci-il-novecento
END:VEVENT
BEGIN:VEVENT
SUMMARY:Aperitivi della conoscenza
DTSTART;TZID=Europe/Rome:20260401T173000
DTEND;TZID=Europe/Rome:20261216T190000
DTSTAMP:20260419T152101Z
UID:c8b1002bdda3431987d12a6a55d86e83@www.comune.parma.it
CATEGORIES:Home page
CREATED:20260409T080145Z
DESCRIPTION:Tornano gli appuntamenti di divulgazione\, confronto e parteci
 pazione per una cultura aperta a tutti\, organizzati dall’Università di
  Parma con il patrocinio del Comune di Parma 
LAST-MODIFIED:20260409T130341Z
URL:https://www.comune.parma.it/api/it/vivere-parma/eventi/aperitivi-della
 -conoscenza
END:VEVENT
BEGIN:VEVENT
SUMMARY:Coach di Quartiere al Parco 8 ottobre
DTSTART;TZID=Europe/Rome:20260408T120000
DTEND;TZID=Europe/Rome:20261021T120000
DTSTAMP:20260419T152101Z
UID:ef0cbfc83ad842af8366b9c884416bd7@www.comune.parma.it
CREATED:20260401T124053Z
DESCRIPTION:Via Montanara - Ritrovo al parcheggio di fronte alla pizzeria 
 "La vela"
LAST-MODIFIED:20260402T074832Z
URL:https://www.comune.parma.it/api/it/vivere-parma/eventi/coach-di-quarti
 ere-al-parco-8-ottobre
END:VEVENT
BEGIN:VEVENT
SUMMARY:Paper week -  13 al 19 aprile
DTSTART;VALUE=DATE:20260413
DTEND;VALUE=DATE:20260420
DTSTAMP:20260419T152101Z
UID:674b0cd12f8a4525a66c1540f0e4c728@www.comune.parma.it
CREATED:20260330T100100Z
DESCRIPTION:Paper week-VI edizione - eventi dal 13 al 19 aprile 2026
LAST-MODIFIED:20260330T100702Z
URL:https://www.comune.parma.it/api/it/vivere-parma/eventi/paper-week/pape
 r-week-13-al-19-aprile
END:VEVENT
BEGIN:VEVENT
SUMMARY:Paper week
DTSTART;TZID=Europe/Rome:20260413T083000
DTEND;TZID=Europe/Rome:20260419T184500
DTSTAMP:20260419T152101Z
UID:541be66a01164f87806ca667cfba03a6@www.comune.parma.it
CATEGORIES:Home page
CREATED:20260325T112510Z
DESCRIPTION:Dal 13 al 19 aprile\, la città diventa un laboratorio a cielo
  aperto con convegni\, laboratori\, mostre\, musica e stand-up comedy sull
 a raccolta differenziata e il riciclo di carta e cartone.
LAST-MODIFIED:20260330T112018Z
URL:https://www.comune.parma.it/api/it/vivere-parma/eventi/paper-week
END:VEVENT
BEGIN:VEVENT
SUMMARY:Coach di Quartiere al Parco Ferrari
DTSTART;TZID=Europe/Rome:20260413T110000
DTEND;TZID=Europe/Rome:20260919T110000
DTSTAMP:20260419T152101Z
UID:4498365bf0e24d54b236e1725c6c5c25@www.comune.parma.it
CREATED:20260401T130407Z
DESCRIPTION:Via Torelli - ritrovo presso il chiosco
LAST-MODIFIED:20260414T094234Z
URL:https://www.comune.parma.it/api/it/vivere-parma/eventi/coach-di-quarti
 ere-al-parco-ferrari
END:VEVENT
BEGIN:VEVENT
SUMMARY:Coach di Quartiere al Parco Dronato
DTSTART;TZID=Europe/Rome:20260413T173000
DTEND;TZID=Europe/Rome:20260919T093000
DTSTAMP:20260419T152101Z
UID:289993f2aba5410597d88204698bc891@www.comune.parma.it
CREATED:20260401T104006Z
DESCRIPTION:Via Sanremo - Ritrovo presso la palestra all'aperto - Area att
 rezzata
LAST-MODIFIED:20260414T094030Z
URL:https://www.comune.parma.it/api/it/vivere-parma/eventi/coach-di-quarti
 ere-al-parco-dronato
END:VEVENT
BEGIN:VEVENT
SUMMARY:Festa della Liberazione 2026
DTSTART;TZID=Europe/Rome:20260414T130000
DTEND;TZID=Europe/Rome:20260515T140000
DTSTAMP:20260419T152101Z
UID:928c95829c7f441681d5919bf6fddddb@www.comune.parma.it
CATEGORIES:Home page
CREATED:20260414T115317Z
DESCRIPTION:Corteo\, commemorazioni\, spettacoli e musica: Parma si prepar
 a al 25 Aprile.
LAST-MODIFIED:20260416T105758Z
URL:https://www.comune.parma.it/api/it/vivere-parma/eventi/festa-della-lib
 erazione-2026
END:VEVENT
BEGIN:VEVENT
SUMMARY:Coach di Quartiere Parco Vilma Preti
DTSTART;TZID=Europe/Rome:20260414T183000
DTEND;TZID=Europe/Rome:20260922T183000
DTSTAMP:20260419T152101Z
UID:ba0e06e065264640a9df3700aa849c71@www.comune.parma.it
CREATED:20260401T112459Z
DESCRIPTION:Via Verona - Ritrovo presso il campo da basket
LAST-MODIFIED:20260414T094505Z
URL:https://www.comune.parma.it/api/it/vivere-parma/eventi/coach-di-quarti
 ere-parco-vilma-preti
END:VEVENT
BEGIN:VEVENT
SUMMARY:Lo spazio svelato
DTSTART;TZID=Europe/Rome:20260416T140000
DTEND;TZID=Europe/Rome:20260517T150000
DTSTAMP:20260419T152101Z
UID:12bb9cf19d8c46788aa43b6e5050dd51@www.comune.parma.it
CREATED:20260414T122837Z
DESCRIPTION:Inaugurerà giovedì 16 aprile alle ore 19\, presso Oratorio d
 i Santa Maria delle Grazie\, un percorso installativo immersivo a cura di 
 Kinoki Media con il coinvolgimento degli studenti del Liceo Artistico Paol
 o Toschi.
LAST-MODIFIED:20260414T133944Z
URL:https://www.comune.parma.it/api/it/vivere-parma/eventi/lo-spazio-svela
 to
END:VEVENT
BEGIN:VEVENT
SUMMARY:Coach di Quartiere al Parco Testoni
DTSTART;TZID=Europe/Rome:20260417T183000
DTEND;TZID=Europe/Rome:20260924T183000
DTSTAMP:20260419T152101Z
UID:60feb8f9c26f4aaf8af91aa62a2ef05e@www.comune.parma.it
CREATED:20260326T103919Z
DESCRIPTION:In via Mordacci - Ritrovo presso il campo da Basket
LAST-MODIFIED:20260402T074944Z
URL:https://www.comune.parma.it/api/it/vivere-parma/eventi/coach-di-quarti
 ere-al-parco-testoni
END:VEVENT
BEGIN:VEVENT
SUMMARY:Parma 360 - LUX. Visioni sulla luce
DTSTART;TZID=Europe/Rome:20260418T140000
DTEND;TZID=Europe/Rome:20260602T150000
DTSTAMP:20260419T152101Z
UID:5167c48e152e494a9d7b4b35e4b573a8@www.comune.parma.it
CATEGORIES:Home page
CREATED:20260415T123739Z
DESCRIPTION:Dal 18 aprile al 2 giugno 2026 PARMA 360 Festival della Creati
 vità Contemporanea celebra il traguardo del suo decennale riaffermando la
  propria identità di osservatorio privilegiato sull’arte e la creativit
 à italiana.\n
LAST-MODIFIED:20260415T130147Z
URL:https://www.comune.parma.it/api/it/vivere-parma/eventi/parma-360-lux-v
 isioni-sulla-luce
END:VEVENT
BEGIN:VEVENT
SUMMARY:Paper week - 19 aprile
DTSTART;VALUE=DATE:20260419
DTEND;VALUE=DATE:20260420
DTSTAMP:20260419T152101Z
UID:b33c5c01942a464da338266ee210e0ed@www.comune.parma.it
CREATED:20260330T112017Z
DESCRIPTION:Paper week- VI edizione- eventi 19 aprile 2026
LAST-MODIFIED:20260330T112025Z
URL:https://www.comune.parma.it/api/it/vivere-parma/eventi/paper-week/pape
 r-week-19-aprile
END:VEVENT
BEGIN:VEVENT
SUMMARY:Festa della Liberazione 2026- Eventi 19 aprile
DTSTART;TZID=Europe/Rome:20260419T100000
DTEND;TZID=Europe/Rome:20260419T173000
DTSTAMP:20260419T152101Z
UID:439e4cd59cfd48879bed3891b20e36ec@www.comune.parma.it
CREATED:20260415T142550Z
DESCRIPTION:Tutti gli eventi della giornata 
LAST-MODIFIED:20260415T151445Z
URL:https://www.comune.parma.it/api/it/vivere-parma/eventi/festa-della-lib
 erazione-2026/festa-della-liberazione-2026-eventi-19-aprile
END:VEVENT
BEGIN:VEVENT
SUMMARY:Mostra "Radici e orizzonti"
DTSTART;TZID=Europe/Rome:20260419T123000
DTEND;TZID=Europe/Rome:20260517T160000
DTSTAMP:20260419T152101Z
UID:887505f9779640858607aa1915adabc5@www.comune.parma.it
CATEGORIES:Home page
CREATED:20260417T140720Z
DESCRIPTION:La mostra di Valentina De Giorgi\, sarà ospitata da Spazio 3 
 in via Borghesi dal 19 aprile al 17 maggio.
LAST-MODIFIED:20260417T140925Z
URL:https://www.comune.parma.it/api/it/vivere-parma/eventi/mostra-radici-e
 -orizzonti
END:VEVENT
BEGIN:VEVENT
SUMMARY:Festa della Liberazione 2026- Eventi 20 aprile
DTSTART;TZID=Europe/Rome:20260420T113000
DTEND;TZID=Europe/Rome:20260420T180000
DTSTAMP:20260419T152101Z
UID:83d273d4a67e43ca95669c5de1fa5515@www.comune.parma.it
CREATED:20260415T143223Z
DESCRIPTION:tutti gli eventi della giornata
LAST-MODIFIED:20260415T151443Z
URL:https://www.comune.parma.it/api/it/vivere-parma/eventi/festa-della-lib
 erazione-2026/festa-della-liberazione-2026-eventi-20-aprile
END:VEVENT
BEGIN:VEVENT
SUMMARY:Il progetto di vita in dialogo con il sistema dei sostegni
DTSTART;TZID=Europe/Rome:20260420T140000
DTEND;TZID=Europe/Rome:20260420T180000
DTSTAMP:20260419T152101Z
UID:35cbf55c668f4e3c99ebb9af3b3a8ebd@www.comune.parma.it
CATEGORIES:Home page
CREATED:20260415T101702Z
DESCRIPTION:Il seminario si terrà il 20 aprile presso la Pubblica Assiste
 nza di via Gorizia. 
LAST-MODIFIED:20260415T101959Z
URL:https://www.comune.parma.it/api/it/vivere-parma/eventi/il-progetto-di-
 vita-in-dialogo-con-il-sistema-dei-sostegni
END:VEVENT
BEGIN:VEVENT
SUMMARY:Festa della Liberazione 2026- Eventi 21 aprile
DTSTART;TZID=Europe/Rome:20260421T103000
DTEND;TZID=Europe/Rome:20260421T203000
DTSTAMP:20260419T152101Z
UID:75b8993d7b194c65bd20a4948179b6f6@www.comune.parma.it
CREATED:20260415T144317Z
DESCRIPTION:Tutti gli eventi della giornata
LAST-MODIFIED:20260415T151444Z
URL:https://www.comune.parma.it/api/it/vivere-parma/eventi/festa-della-lib
 erazione-2026/festa-della-liberazione-2026-eventi-21-aprile
END:VEVENT
BEGIN:VEVENT
SUMMARY:Il Castello
DTSTART;TZID=Europe/Rome:20260421T103000
DTEND;TZID=Europe/Rome:20260424T183000
DTSTAMP:20260419T152101Z
UID:c2d1c3dc7dc4433fb4eee4fbf45d8e82@www.comune.parma.it
CREATED:20260414T121751Z
DESCRIPTION:Dal 21 al 24 aprile\, presso la Sala del Consiglio\, in progra
 mma l'installazione visuale e sonora site-specific curata dai direttori ar
 tistici di Lenz
LAST-MODIFIED:20260414T133748Z
URL:https://www.comune.parma.it/api/it/vivere-parma/eventi/il-castello
END:VEVENT
BEGIN:VEVENT
SUMMARY:Festa della Liberazione 2026- Eventi 22 aprile
DTSTART;TZID=Europe/Rome:20260422T100000
DTEND;TZID=Europe/Rome:20260422T173000
DTSTAMP:20260419T152101Z
UID:16869df88b244e749f7a7e2c0854da87@www.comune.parma.it
CREATED:20260415T145014Z
DESCRIPTION:tutti gli eventi della giornata
LAST-MODIFIED:20260415T151444Z
URL:https://www.comune.parma.it/api/it/vivere-parma/eventi/festa-della-lib
 erazione-2026/festa-della-liberazione-2026-eventi-22-aprile
END:VEVENT
BEGIN:VEVENT
SUMMARY:Coach di Quartiere al Parco del Naviglio
DTSTART;TZID=Europe/Rome:20260422T100000
DTEND;TZID=Europe/Rome:20261021T100000
DTSTAMP:20260419T152101Z
UID:5c26d5a3346045bd9589e2c4bec9cb7e@www.comune.parma.it
CREATED:20260326T141124Z
DESCRIPTION:Via Naviglio Alto - Ritrovo ingresso via Paradigna
LAST-MODIFIED:20260402T074904Z
URL:https://www.comune.parma.it/api/it/vivere-parma/eventi/coach-di-quarti
 ere-al-parco-del-naviglio
END:VEVENT
BEGIN:VEVENT
SUMMARY:Festa della Liberazione 2026- Eventi 23 aprile
DTSTART;TZID=Europe/Rome:20260423T093000
DTEND;TZID=Europe/Rome:20260423T210000
DTSTAMP:20260419T152101Z
UID:66261a10bb984b6d909eb18c6778ef83@www.comune.parma.it
CREATED:20260415T150432Z
DESCRIPTION:tutti gli eventi della giornata
LAST-MODIFIED:20260415T151443Z
URL:https://www.comune.parma.it/api/it/vivere-parma/eventi/festa-della-lib
 erazione-2026/festa-della-liberazione-2026-eventi-23-aprile
END:VEVENT
BEGIN:VEVENT
SUMMARY:Festa della Liberazione- Eventi 24 aprile
DTSTART;TZID=Europe/Rome:20260424T100000
DTEND;TZID=Europe/Rome:20260424T163000
DTSTAMP:20260419T152101Z
UID:de4cdb9a2e694f4b8245ae27e882de2e@www.comune.parma.it
CREATED:20260415T151046Z
DESCRIPTION:tutti gli eventi della giornata 
LAST-MODIFIED:20260415T151443Z
URL:https://www.comune.parma.it/api/it/vivere-parma/eventi/festa-della-lib
 erazione-2026/festa-della-liberazione-eventi-24-aprile
END:VEVENT
BEGIN:VEVENT
SUMMARY:Festa della Liberazione 2026 - Eventi 25 Aprile
DTSTART;TZID=Europe/Rome:20260425T090000
DTEND;TZID=Europe/Rome:20260425T235900
DTSTAMP:20260419T152101Z
UID:33752ffa471f40248f412541c2931902@www.comune.parma.it
CREATED:20260415T134252Z
DESCRIPTION:Tutti gli eventi della giornata 
LAST-MODIFIED:20260415T151444Z
URL:https://www.comune.parma.it/api/it/vivere-parma/eventi/festa-della-lib
 erazione-2026/festa-della-liberazione-2026-eventi-25-aprile
END:VEVENT
BEGIN:VEVENT
SUMMARY:Concerto per la Liberazione
DTSTART;TZID=Europe/Rome:20260425T173000
DTEND;TZID=Europe/Rome:20260426T010000
DTSTAMP:20260419T152101Z
UID:db2b71730f11451ab8f2ba0a6298f953@www.comune.parma.it
CATEGORIES:Home page
CREATED:20260407T134720Z
DESCRIPTION:Sabato 25 aprile\, dalle ore 17.30\, i Gipsy King\, Samà Abdu
 lhadi\, Massimo Zamboni\, Pierpaolo Capovilla e i Cattivi Maestri\, Martin
 o Adriani e non solo si esibiscono sul palco di Piazza Garibaldi.
LAST-MODIFIED:20260415T144500Z
URL:https://www.comune.parma.it/api/it/vivere-parma/eventi/concerto-per-la
 -liberazione-2026
END:VEVENT
BEGIN:VEVENT
SUMMARY:Festa della Liberazione 2026 - Eventi del 26 aprile
DTSTART;TZID=Europe/Rome:20260426T100000
DTEND;TZID=Europe/Rome:20260426T130000
DTSTAMP:20260419T152101Z
UID:ab705f24d31b41ff92ee56f5def39f76@www.comune.parma.it
CREATED:20260415T135705Z
DESCRIPTION:Tutti gli eventi del giorno
LAST-MODIFIED:20260415T151442Z
URL:https://www.comune.parma.it/api/it/vivere-parma/eventi/festa-della-lib
 erazione-2026/festa-della-liberazione-2026-eventi-del-26-aprile
END:VEVENT
BEGIN:VEVENT
SUMMARY:Festa della Liberazione 2026 - Eventi del 29 Aprile
DTSTART;TZID=Europe/Rome:20260429T170000
DTEND;TZID=Europe/Rome:20260429T183000
DTSTAMP:20260419T152101Z
UID:4843548fc6a44cbaa46777108d9bcfc8@www.comune.parma.it
CREATED:20260415T140232Z
DESCRIPTION:Tutti gli eventi del giorno
LAST-MODIFIED:20260415T151441Z
URL:https://www.comune.parma.it/api/it/vivere-parma/eventi/festa-della-lib
 erazione-2026/festa-della-liberazione-2026-eventi-del-29-aprile
END:VEVENT
BEGIN:VEVENT
SUMMARY:L’immaginario di Brian Eno approda a Parma
DTSTART;VALUE=DATE:20260430
DTEND;VALUE=DATE:20260803
DTSTAMP:20260419T152101Z
UID:e96114d464d4421ba2dd52bdb6cef804@www.comune.parma.it
CATEGORIES:Home page
CREATED:20260219T102928Z
DESCRIPTION:L’immaginario sonoro e visivo di Brian Eno approda a Parma c
 on un progetto artistico diffuso\, tra i più significativi del suo percor
 so creativo\, in programma dal 30 aprile al 2 agosto.
LAST-MODIFIED:20260323T094741Z
URL:https://www.comune.parma.it/api/it/vivere-parma/eventi/limmaginario-di
 -brian-eno-approda-a-parma
END:VEVENT
BEGIN:VEVENT
SUMMARY:Festa della Liberazione 2026 - Eventi del 30 Aprile
DTSTART;TZID=Europe/Rome:20260430T173000
DTEND;TZID=Europe/Rome:20260430T183000
DTSTAMP:20260419T152101Z
UID:d9bc1c198a3d4377a14b6b4e07df15bd@www.comune.parma.it
CREATED:20260415T140840Z
DESCRIPTION:Tutti gli eventi del giorno
LAST-MODIFIED:20260415T151441Z
URL:https://www.comune.parma.it/api/it/vivere-parma/eventi/festa-della-lib
 erazione-2026/festa-della-liberazione-2026-eventi-del-30-aprile
END:VEVENT
BEGIN:VEVENT
SUMMARY:Festa della Liberazione 2026 - Eventi del 4 Maggio
DTSTART;TZID=Europe/Rome:20260504T180000
DTEND;TZID=Europe/Rome:20260504T200000
DTSTAMP:20260419T152101Z
UID:a3faabfb106c4d0ba89481462ae6cc6e@www.comune.parma.it
CREATED:20260415T141533Z
DESCRIPTION:Tutti gli eventi del giorno
LAST-MODIFIED:20260415T151440Z
URL:https://www.comune.parma.it/api/it/vivere-parma/eventi/festa-della-lib
 erazione-2026/festa-della-liberazione-2026-eventi-del-4-maggio
END:VEVENT
BEGIN:VEVENT
SUMMARY:Festa della Liberazione 2026 - Eventi del 6 Maggiio
DTSTART;TZID=Europe/Rome:20260506T180000
DTEND;TZID=Europe/Rome:20260506T200000
DTSTAMP:20260419T152101Z
UID:09431577c1594a05bbfea880378d655c@www.comune.parma.it
CREATED:20260415T141836Z
DESCRIPTION:Tutti gli eventi del giorno
LAST-MODIFIED:20260415T151441Z
URL:https://www.comune.parma.it/api/it/vivere-parma/eventi/festa-della-lib
 erazione-2026/festa-della-liberazione-2026-eventi-del-6-maggiio
END:VEVENT
BEGIN:VEVENT
SUMMARY:Festa della Liberazione 2026 - Eventi del 8 maggio
DTSTART;TZID=Europe/Rome:20260508T170000
DTEND;TZID=Europe/Rome:20260508T190000
DTSTAMP:20260419T152101Z
UID:cb6fcd09f62d4cee8beed773eb4bf071@www.comune.parma.it
CREATED:20260415T142611Z
DESCRIPTION:Tutti gli eventi del giorno
LAST-MODIFIED:20260415T151442Z
URL:https://www.comune.parma.it/api/it/vivere-parma/eventi/festa-della-lib
 erazione-2026/festa-della-liberazione-2026-eventi-del-8-maggio
END:VEVENT
BEGIN:VEVENT
SUMMARY:Festa della Liberazione 2026 - Eventi del 9 Maggio
DTSTART;TZID=Europe/Rome:20260509T090000
DTEND;TZID=Europe/Rome:20260509T200000
DTSTAMP:20260419T152101Z
UID:c90398e38e8c477e82deb57169f05a4d@www.comune.parma.it
CREATED:20260415T143634Z
DESCRIPTION:Tutti gli eventi del giorno
LAST-MODIFIED:20260415T151442Z
URL:https://www.comune.parma.it/api/it/vivere-parma/eventi/festa-della-lib
 erazione-2026/festa-della-liberazione-2026-eventi-del-9-maggio
END:VEVENT
BEGIN:VEVENT
SUMMARY:Calici d'arte 2026
DTSTART;TZID=Europe/Rome:20260509T160000
DTEND;TZID=Europe/Rome:20260510T220000
DTSTAMP:20260419T152101Z
UID:b1b69272211c4047969e351120d1e450@www.comune.parma.it
CREATED:20260327T090318Z
DESCRIPTION:Evento culturale ed enogastronomico in programma sabato 9 e do
 menica 10 maggio.
LAST-MODIFIED:20260327T090350Z
URL:https://www.comune.parma.it/api/it/vivere-parma/eventi/calici-darte-20
 26
END:VEVENT
BEGIN:VEVENT
SUMMARY:Festa della Liberazione - Eventi del 15 Maggio
DTSTART;TZID=Europe/Rome:20260515T210000
DTEND;TZID=Europe/Rome:20260515T230000
DTSTAMP:20260419T152101Z
UID:503710a310514174a5e712911bf93da1@www.comune.parma.it
CREATED:20260415T144311Z
DESCRIPTION:Tutti gli eventi del giorno
LAST-MODIFIED:20260415T151442Z
URL:https://www.comune.parma.it/api/it/vivere-parma/eventi/festa-della-lib
 erazione-2026/festa-della-liberazione-eventi-del-15-maggio
END:VEVENT
BEGIN:VEVENT
SUMMARY:Spritz & Sound
DTSTART;TZID=Europe/Rome:20260524T170000
DTEND;TZID=Europe/Rome:20260531T220000
DTSTAMP:20260419T152101Z
UID:ac4c24c69dc34b67a3469ddfdacb3354@www.comune.parma.it
CREATED:20260327T100509Z
DESCRIPTION:Aperitivi con accompagnamento musicale in via Verdi e via Gari
 baldi.
LAST-MODIFIED:20260327T100927Z
URL:https://www.comune.parma.it/api/it/vivere-parma/eventi/spritz-sound
END:VEVENT
BEGIN:VEVENT
SUMMARY:Festival Toscanini 2026
DTSTART;TZID=Europe/Rome:20260621T210000
DTEND;TZID=Europe/Rome:20260716T235900
DTSTAMP:20260419T152101Z
UID:f93f6be3103e43aba22f403afb55209d@www.comune.parma.it
CREATED:20260409T104938Z
DESCRIPTION:Dal 21 giugno al 16 luglio un cartellone di concerti sinfonici
 \, cameristici e jazz nel segno di Arturo Toscanini
LAST-MODIFIED:20260409T110821Z
URL:https://www.comune.parma.it/api/it/vivere-parma/eventi/festival-toscan
 ini-2026
END:VEVENT
BEGIN:VEVENT
SUMMARY:Alé Parma Sport Festival
DTSTART;TZID=Europe/Rome:20260919T080000
DTEND;TZID=Europe/Rome:20260919T200000
DTSTAMP:20260419T152101Z
UID:4a70f926f2bd46f4acfb82dd5b93145b@www.comune.parma.it
RRULE:FREQ=YEARLY;UNTIL=20260920T180000Z;INTERVAL=1;BYDAY=+3SA;BYMONTH=9;W
 KST=MO
CATEGORIES:clone-sport
CREATED:20250915T124954Z
DESCRIPTION:Evento dedicato principalmente a bambini/e e ragazzi/e che off
 re ai partecipanti l’opportunità di provare oltre 40 discipline sportiv
 e diverse
LAST-MODIFIED:20251203T121458Z
URL:https://www.comune.parma.it/api/it/vivere-parma/eventi/ale-parma-sport
 -festival
END:VEVENT
BEGIN:VTIMEZONE
TZID:Europe/Rome
X-LIC-LOCATION:Europe/Rome
BEGIN:STANDARD
DTSTART:20251026T020000
TZNAME:CET
TZOFFSETFROM:+0200
TZOFFSETTO:+0100
END:STANDARD
BEGIN:DAYLIGHT
DTSTART:20260329T030000
TZNAME:CEST
TZOFFSETFROM:+0100
TZOFFSETTO:+0200
END:DAYLIGHT
BEGIN:STANDARD
DTSTART:20261025T020000
TZNAME:CET
TZOFFSETFROM:+0200
TZOFFSETTO:+0100
END:STANDARD
END:VTIMEZONE
END:VCALENDAR
