BEGIN:VCALENDAR
VERSION:2.0
PRODID:-//Plone.org//NONSGML plone.app.event//EN
X-WR-TIMEZONE:Europe/Rome
BEGIN:VEVENT
SUMMARY:A Piazza for Europe. The Youth Taste of Transformation
DTSTART;TZID=Europe/Rome:20250125T100000
DTEND;TZID=Europe/Rome:20250125T130000
DTSTAMP:20260419T191908Z
UID:1818bc05bc974241a4a15f5cecf3a89b@www.comune.parma.it
CATEGORIES:Home page,EYC
CREATED:20250114T083357Z
DESCRIPTION:Presentazione del progetto di Parma Capitale Europea dei Giova
 ni 2027.
LAST-MODIFIED:20250114T105304Z
URL:https://www.comune.parma.it/api/it/vivere-parma/eventi/a-piazza-for-eu
 rope-the-youth-taste-of-transformation
END:VEVENT
BEGIN:VTIMEZONE
TZID:Europe/Rome
X-LIC-LOCATION:Europe/Rome
BEGIN:STANDARD
DTSTART:20241027T020000
TZNAME:CET
TZOFFSETFROM:+0200
TZOFFSETTO:+0100
END:STANDARD
END:VTIMEZONE
END:VCALENDAR
