BEGIN:VCALENDAR
VERSION:2.0
PRODID:-//Plone.org//NONSGML plone.app.event//EN
X-WR-TIMEZONE:Europe/Rome
BEGIN:VEVENT
SUMMARY:Affidiamoci - Aperitivo letterario
DTSTART;TZID=Europe/Rome:20241217T180000
DTEND;TZID=Europe/Rome:20241217T193000
DTSTAMP:20260419T183220Z
UID:1729af8bae2142c48ed5d712fe6c5d33@www.comune.parma.it
CATEGORIES:Home page
CREATED:20241205T111043Z
DESCRIPTION:Aperitivo letterario nell'ambito della rassegna di eventi dedi
 cati a promuovere e sostenere il tema dell'accoglienza e dell'affido Famil
 iare.\n\n
LAST-MODIFIED:20241205T113039Z
URL:https://www.comune.parma.it/api/it/vivere-parma/eventi/affidiamoci/202
 4-12-17
END:VEVENT
BEGIN:VTIMEZONE
TZID:Europe/Rome
X-LIC-LOCATION:Europe/Rome
BEGIN:STANDARD
DTSTART:20241027T020000
TZNAME:CET
TZOFFSETFROM:+0200
TZOFFSETTO:+0100
END:STANDARD
END:VTIMEZONE
END:VCALENDAR
