BEGIN:VCALENDAR
VERSION:2.0
PRODID:-//Plone.org//NONSGML plone.app.event//EN
X-WR-TIMEZONE:Europe/Rome
BEGIN:VEVENT
SUMMARY:Alé Parma Sport Festival
DTSTART;TZID=Europe/Rome:20260919T080000
DTEND;TZID=Europe/Rome:20260919T200000
DTSTAMP:20260420T033353Z
UID:4a70f926f2bd46f4acfb82dd5b93145b@www.comune.parma.it
CATEGORIES:clone-sport
CREATED:20250915T124954Z
DESCRIPTION:Evento dedicato principalmente a bambini/e e ragazzi/e che off
 re ai partecipanti l’opportunità di provare oltre 40 discipline sportiv
 e diverse
LAST-MODIFIED:20251203T121458Z
URL:https://www.comune.parma.it/api/it/vivere-parma/eventi/ale-parma-sport
 -festival/2026-09-19
END:VEVENT
BEGIN:VTIMEZONE
TZID:Europe/Rome
X-LIC-LOCATION:Europe/Rome
BEGIN:DAYLIGHT
DTSTART:20260329T030000
TZNAME:CEST
TZOFFSETFROM:+0100
TZOFFSETTO:+0200
END:DAYLIGHT
END:VTIMEZONE
END:VCALENDAR
