BEGIN:VCALENDAR
VERSION:2.0
PRODID:-//Plone.org//NONSGML plone.app.event//EN
X-WR-TIMEZONE:Europe/Rome
BEGIN:VEVENT
SUMMARY:Alla Biblioteca Civica\, la mostra "Una favola di pace"
DTSTART;TZID=Europe/Rome:20260117T170000
DTEND;TZID=Europe/Rome:20260220T120000
DTSTAMP:20260420T111542Z
UID:260bafb355e04a5a857595e7bad9b15f@www.comune.parma.it
CATEGORIES:Home page
CREATED:20260116T104820Z
DESCRIPTION:Gianni Rodari\, Ulisse Adorni\, Giorgio Michelotti e l'esperie
 nza della scuola sperimentale a Parma negli anni '70 e '80\n\n 
LAST-MODIFIED:20260116T104842Z
URL:https://www.comune.parma.it/api/it/vivere-parma/eventi/alla-biblioteca
 -civica-la-mostra-una-favola-di-pace
END:VEVENT
BEGIN:VTIMEZONE
TZID:Europe/Rome
X-LIC-LOCATION:Europe/Rome
BEGIN:STANDARD
DTSTART:20251026T020000
TZNAME:CET
TZOFFSETFROM:+0200
TZOFFSETTO:+0100
END:STANDARD
END:VTIMEZONE
END:VCALENDAR
