BEGIN:VCALENDAR
VERSION:2.0
PRODID:-//Plone.org//NONSGML plone.app.event//EN
X-WR-TIMEZONE:Europe/Rome
BEGIN:VEVENT
SUMMARY:L’Assessora Vernizzi al Quartiere Cittadella
DTSTART;TZID=Europe/Rome:20230323T183000
DTEND;TZID=Europe/Rome:20230323T200000
DTSTAMP:20260419T165335Z
UID:8dcaae641c7f4d109f7d0684a8ea235c@www.comune.parma.it
CATEGORIES:Home page,cento,marzo
CREATED:20230228T095813Z
DESCRIPTION:100 - La giunta nei quartieri.
LAST-MODIFIED:20240122T120725Z
URL:https://www.comune.parma.it/api/it/vivere-parma/eventi/assessora-verni
 zzi-al-quartiere-cittadella
END:VEVENT
BEGIN:VTIMEZONE
TZID:Europe/Rome
X-LIC-LOCATION:Europe/Rome
BEGIN:STANDARD
DTSTART:20221030T020000
TZNAME:CET
TZOFFSETFROM:+0200
TZOFFSETTO:+0100
END:STANDARD
END:VTIMEZONE
END:VCALENDAR
