BEGIN:VCALENDAR
VERSION:2.0
PRODID:-//Plone.org//NONSGML plone.app.event//EN
X-WR-TIMEZONE:Europe/Rome
BEGIN:VEVENT
SUMMARY:L’Assessore Borghi al Quartiere Montanara
DTSTART;TZID=Europe/Rome:20230420T183000
DTEND;TZID=Europe/Rome:20230420T210000
DTSTAMP:20260421T134806Z
UID:cf6ce58b1e8d4f6080c278f93e33e714@www.comune.parma.it
CATEGORIES:cento,Home page,aprile
CREATED:20230405T124923Z
DESCRIPTION:100 - La Giunta nei quartieri.
LAST-MODIFIED:20240122T121200Z
URL:https://www.comune.parma.it/api/it/vivere-parma/eventi/assessore-borgh
 i-al-quartiere-montanara
END:VEVENT
BEGIN:VTIMEZONE
TZID:Europe/Rome
X-LIC-LOCATION:Europe/Rome
BEGIN:DAYLIGHT
DTSTART:20230326T030000
TZNAME:CEST
TZOFFSETFROM:+0100
TZOFFSETTO:+0200
END:DAYLIGHT
END:VTIMEZONE
END:VCALENDAR
