BEGIN:VCALENDAR
VERSION:2.0
PRODID:-//Plone.org//NONSGML plone.app.event//EN
X-WR-TIMEZONE:Europe/Rome
BEGIN:VEVENT
SUMMARY:Attività economiche e Città. Prospettive di sviluppo tra Hub e s
 pazi mercatali
DTSTART;TZID=Europe/Rome:20251103T160000
DTEND;TZID=Europe/Rome:20251103T180000
DTSTAMP:20260420T180632Z
UID:4b823fcb38114aeeb0084cac15f7eefb@www.comune.parma.it
CATEGORIES:In evidenza
CREATED:20251028T140907Z
DESCRIPTION:Il convegno si terrà alla Casa della Musica\, lunedì 3 novem
 bre alle ore 16.00.
LAST-MODIFIED:20251103T143637Z
URL:https://www.comune.parma.it/api/it/vivere-parma/eventi/attivita-econom
 iche-e-citta-prospettive-di-sviluppo-tra-hub-e-spazi-mercatali/2025-11-03
END:VEVENT
BEGIN:VTIMEZONE
TZID:Europe/Rome
X-LIC-LOCATION:Europe/Rome
BEGIN:STANDARD
DTSTART:20251026T020000
TZNAME:CET
TZOFFSETFROM:+0200
TZOFFSETTO:+0100
END:STANDARD
END:VTIMEZONE
END:VCALENDAR
