BEGIN:VCALENDAR
VERSION:2.0
PRODID:-//Plone.org//NONSGML plone.app.event//EN
X-WR-TIMEZONE:Europe/Rome
BEGIN:VEVENT
SUMMARY:Battle of the Sexes
DTSTART;TZID=Europe/Rome:20240825T211500
DTEND;TZID=Europe/Rome:20240825T230000
DTSTAMP:20260420T155453Z
UID:18a34e5958864a608f5898fba766e383@www.comune.parma.it
CATEGORIES:Home page
CREATED:20240729T072021Z
DESCRIPTION:Rassegna estiva "SET! Lo sport incontra il cinema": lo sport i
 ncontra il cinema.
LAST-MODIFIED:20240729T072411Z
URL:https://www.comune.parma.it/api/it/vivere-parma/eventi/battle-of-the-s
 exes
END:VEVENT
BEGIN:VTIMEZONE
TZID:Europe/Rome
X-LIC-LOCATION:Europe/Rome
BEGIN:DAYLIGHT
DTSTART:20240331T030000
TZNAME:CEST
TZOFFSETFROM:+0100
TZOFFSETTO:+0200
END:DAYLIGHT
END:VTIMEZONE
END:VCALENDAR
