BEGIN:VCALENDAR
VERSION:2.0
PRODID:-//Plone.org//NONSGML plone.app.event//EN
X-WR-TIMEZONE:Europe/Rome
BEGIN:VEVENT
SUMMARY:Camminata "Tommy nel cuore"
DTSTART;TZID=Europe/Rome:20260418T143000
DTEND;TZID=Europe/Rome:20260418T170000
DTSTAMP:20260419T154657Z
UID:f1795df0d3ed4c16b3b7e840918b5251@www.comune.parma.it
CREATED:20260417T150520Z
DESCRIPTION:La camminata è in programma sabato 18 aprile con partenza all
 e ore 14.30 davanti alla sede dell'AVIS di San Prospero (strada Quingenti 
 29)
LAST-MODIFIED:20260417T150713Z
URL:https://www.comune.parma.it/api/it/vivere-parma/eventi/camminata-tommy
 -nel-cuore
END:VEVENT
BEGIN:VTIMEZONE
TZID:Europe/Rome
X-LIC-LOCATION:Europe/Rome
BEGIN:DAYLIGHT
DTSTART:20260329T030000
TZNAME:CEST
TZOFFSETFROM:+0100
TZOFFSETTO:+0200
END:DAYLIGHT
END:VTIMEZONE
END:VCALENDAR
