BEGIN:VCALENDAR
VERSION:2.0
PRODID:-//Plone.org//NONSGML plone.app.event//EN
X-WR-TIMEZONE:Europe/Rome
BEGIN:VEVENT
SUMMARY:Canile Drammatico 2026
DTSTART;TZID=Europe/Rome:20260514T110000
DTEND;TZID=Europe/Rome:20260517T230000
DTSTAMP:20260421T192125Z
UID:c65945e456324926b44a66f8d9d9ffc4@www.comune.parma.it
CREATED:20260421T095222Z
DESCRIPTION:Dal 14 al 17 maggio\, quattro giorni di spettacoli\, performan
 ce\, musica\, talk\, laboratori presso il Teatro Europa.
LAST-MODIFIED:20260421T125642Z
URL:https://www.comune.parma.it/api/it/vivere-parma/eventi/canile-drammati
 co-2026
END:VEVENT
BEGIN:VTIMEZONE
TZID:Europe/Rome
X-LIC-LOCATION:Europe/Rome
BEGIN:DAYLIGHT
DTSTART:20260329T030000
TZNAME:CEST
TZOFFSETFROM:+0100
TZOFFSETTO:+0200
END:DAYLIGHT
END:VTIMEZONE
END:VCALENDAR
