BEGIN:VCALENDAR
VERSION:2.0
PRODID:-//Plone.org//NONSGML plone.app.event//EN
X-WR-TIMEZONE:Europe/Rome
BEGIN:VEVENT
SUMMARY:Capodanno 2025
DTSTART;TZID=Europe/Rome:20241231T223000
DTEND;TZID=Europe/Rome:20250101T020000
DTSTAMP:20260419T184711Z
UID:6e745abced424e6581eb9f51055d4f18@www.comune.parma.it
CATEGORIES:Home page
CREATED:20241127T143242Z
DESCRIPTION:Martedì 31 dicembre 2024 dalle ore 22.30 si aprirà la lunga 
 festa per tutti (ad ingresso libero) della piazza di Parma per salutare il
  2025.\n\n
LAST-MODIFIED:20241127T143344Z
URL:https://www.comune.parma.it/api/it/vivere-parma/eventi/capodanno-2025
END:VEVENT
BEGIN:VTIMEZONE
TZID:Europe/Rome
X-LIC-LOCATION:Europe/Rome
BEGIN:STANDARD
DTSTART:20241027T020000
TZNAME:CET
TZOFFSETFROM:+0200
TZOFFSETTO:+0100
END:STANDARD
END:VTIMEZONE
END:VCALENDAR
