BEGIN:VCALENDAR
VERSION:2.0
PRODID:-//Plone.org//NONSGML plone.app.event//EN
X-WR-TIMEZONE:Europe/Rome
BEGIN:VEVENT
SUMMARY:Capodanno 2026
DTSTART;TZID=Europe/Rome:20251231T223000
DTEND;TZID=Europe/Rome:20260101T020000
DTSTAMP:20260419T221343Z
UID:1b99c1d8a05f4b3d93d90e9ae88a0872@www.comune.parma.it
CATEGORIES:Home page
CREATED:20251203T164630Z
DESCRIPTION:La grande festa in Piazza Garibaldi prenderà il via alle 22.3
 0 con un DJ set anni ’70 e ’80 firmato Jumbo Story. A seguire\, dopo i
 l countdown\, il protagonista sarà il grande chitarrista e cantautore ita
 liano Alex Britti.
LAST-MODIFIED:20251203T165832Z
URL:https://www.comune.parma.it/api/it/vivere-parma/eventi/capodanno-2026/
 2025-12-31
END:VEVENT
BEGIN:VTIMEZONE
TZID:Europe/Rome
X-LIC-LOCATION:Europe/Rome
BEGIN:STANDARD
DTSTART:20251026T020000
TZNAME:CET
TZOFFSETFROM:+0200
TZOFFSETTO:+0100
END:STANDARD
END:VTIMEZONE
END:VCALENDAR
