BEGIN:VCALENDAR
VERSION:2.0
PRODID:-//Plone.org//NONSGML plone.app.event//EN
X-WR-TIMEZONE:Europe/Rome
BEGIN:VEVENT
SUMMARY:Celebrazioni Festa della Liberazione 2025
DTSTART;TZID=Europe/Rome:20250412T100000
DTEND;TZID=Europe/Rome:20250514T190000
DTSTAMP:20260422T161626Z
UID:ffa2961ead1b42c4ae1623c9aae35b4f@www.comune.parma.it
CATEGORIES:Home page
CREATED:20250415T085706Z
DESCRIPTION:Dal 12 aprile al 14 maggio un ricco programma promosso dal Com
 une di Parma insieme al Comitato per le Celebrazioni del 25 aprile\, con i
 ncontri\, concerti e spettacoli\, per celebrare\, fra riflessione e memori
 a\, l'80° anniversario della Liberazione.
LAST-MODIFIED:20250415T120326Z
URL:https://www.comune.parma.it/api/it/vivere-parma/eventi/celebrazioni-fe
 sta-della-liberazione-2025
END:VEVENT
BEGIN:VTIMEZONE
TZID:Europe/Rome
X-LIC-LOCATION:Europe/Rome
BEGIN:DAYLIGHT
DTSTART:20250330T030000
TZNAME:CEST
TZOFFSETFROM:+0100
TZOFFSETTO:+0200
END:DAYLIGHT
END:VTIMEZONE
END:VCALENDAR
