BEGIN:VCALENDAR
VERSION:2.0
PRODID:-//Plone.org//NONSGML plone.app.event//EN
X-WR-TIMEZONE:Europe/Rome
BEGIN:VEVENT
SUMMARY:Cena con delitto
DTSTART;TZID=Europe/Rome:20240724T193000
DTEND;TZID=Europe/Rome:20240724T233000
DTSTAMP:20260420T010523Z
UID:bdb7052a62c74ef187264869a497f0de@www.comune.parma.it
CATEGORIES:Home page,EYC
CREATED:20240718T075012Z
DESCRIPTION:Una serata coinvolgente all’insegna del mistero!
LAST-MODIFIED:20240722T063042Z
URL:https://www.comune.parma.it/api/it/vivere-parma/eventi/cena-con-delitt
 o
END:VEVENT
BEGIN:VTIMEZONE
TZID:Europe/Rome
X-LIC-LOCATION:Europe/Rome
BEGIN:DAYLIGHT
DTSTART:20240331T030000
TZNAME:CEST
TZOFFSETFROM:+0100
TZOFFSETTO:+0200
END:DAYLIGHT
END:VTIMEZONE
END:VCALENDAR
