BEGIN:VCALENDAR
VERSION:2.0
PRODID:-//Plone.org//NONSGML plone.app.event//EN
X-WR-TIMEZONE:Europe/Rome
BEGIN:VEVENT
SUMMARY:Che cinema ragazzi!
DTSTART;TZID=Europe/Rome:20251220T153000
DTEND;TZID=Europe/Rome:20251227T190000
DTSTAMP:20260420T083118Z
UID:19b2ce59723149df890db1161b751d01@www.comune.parma.it
CREATED:20251210T132320Z
DESCRIPTION:Due proiezioni gratuite per famiglie e ragazzi. Appuntamento a
 l Cinema Astra\, alle 15:30\, sabato 20 con "La vita da grandi" e sabato 2
 7 con "Scirocco e il regno dei venti".
LAST-MODIFIED:20251211T153608Z
URL:https://www.comune.parma.it/api/it/vivere-parma/eventi/che-cinema-raga
 zzi
END:VEVENT
BEGIN:VTIMEZONE
TZID:Europe/Rome
X-LIC-LOCATION:Europe/Rome
BEGIN:STANDARD
DTSTART:20251026T020000
TZNAME:CET
TZOFFSETFROM:+0200
TZOFFSETTO:+0100
END:STANDARD
END:VTIMEZONE
END:VCALENDAR
