BEGIN:VCALENDAR
VERSION:2.0
PRODID:-//Plone.org//NONSGML plone.app.event//EN
X-WR-TIMEZONE:Europe/Rome
BEGIN:VEVENT
SUMMARY:Cimitero della Villetta  I Like Parma - Cimitero Monumentale della
  Villetta
DTSTART;TZID=Europe/Rome:20241006T103000
DTEND;TZID=Europe/Rome:20241006T183000
DTSTAMP:20260419T182510Z
UID:d76b7988ad3a485083fd4433296d8670@www.comune.parma.it
CATEGORIES:Home page
CREATED:20240930T125223Z
DESCRIPTION:Visite al Cimitero Monumentale della Villetta in occasione di 
 I Like Parma
LAST-MODIFIED:20240930T125229Z
URL:https://www.comune.parma.it/api/it/vivere-parma/eventi/cimitero-della-
 villetta-i-like-parma-cimitero-monumentale-della-villetta/2024-10-06
END:VEVENT
BEGIN:VTIMEZONE
TZID:Europe/Rome
X-LIC-LOCATION:Europe/Rome
BEGIN:DAYLIGHT
DTSTART:20240331T030000
TZNAME:CEST
TZOFFSETFROM:+0100
TZOFFSETTO:+0200
END:DAYLIGHT
END:VTIMEZONE
END:VCALENDAR
