BEGIN:VCALENDAR
VERSION:2.0
PRODID:-//Plone.org//NONSGML plone.app.event//EN
X-WR-TIMEZONE:Europe/Rome
BEGIN:VEVENT
SUMMARY:Coach di Quartiere al Parco del Naviglio
DTSTART;TZID=Europe/Rome:20260422T100000
DTEND;TZID=Europe/Rome:20261021T100000
DTSTAMP:20260422T014845Z
UID:5c26d5a3346045bd9589e2c4bec9cb7e@www.comune.parma.it
CREATED:20260326T141124Z
DESCRIPTION:Via Naviglio Alto - Ritrovo ingresso via Paradigna
LAST-MODIFIED:20260402T074904Z
URL:https://www.comune.parma.it/api/it/vivere-parma/eventi/coach-di-quarti
 ere-al-parco-del-naviglio
END:VEVENT
BEGIN:VTIMEZONE
TZID:Europe/Rome
X-LIC-LOCATION:Europe/Rome
BEGIN:DAYLIGHT
DTSTART:20260329T030000
TZNAME:CEST
TZOFFSETFROM:+0100
TZOFFSETTO:+0200
END:DAYLIGHT
END:VTIMEZONE
END:VCALENDAR
