BEGIN:VCALENDAR
VERSION:2.0
PRODID:-//Plone.org//NONSGML plone.app.event//EN
X-WR-TIMEZONE:Europe/Rome
BEGIN:VEVENT
SUMMARY:Coach di Quartiere Parco Vilma Preti
DTSTART;TZID=Europe/Rome:20260414T183000
DTEND;TZID=Europe/Rome:20260922T183000
DTSTAMP:20260421T223424Z
UID:ba0e06e065264640a9df3700aa849c71@www.comune.parma.it
CREATED:20260401T112459Z
DESCRIPTION:Via Verona - Ritrovo presso il campo da basket
LAST-MODIFIED:20260421T110944Z
URL:https://www.comune.parma.it/api/it/vivere-parma/eventi/coach-di-quarti
 ere-parco-vilma-preti
END:VEVENT
BEGIN:VTIMEZONE
TZID:Europe/Rome
X-LIC-LOCATION:Europe/Rome
BEGIN:DAYLIGHT
DTSTART:20260329T030000
TZNAME:CEST
TZOFFSETFROM:+0100
TZOFFSETTO:+0200
END:DAYLIGHT
END:VTIMEZONE
END:VCALENDAR
