BEGIN:VCALENDAR
VERSION:2.0
PRODID:-//Plone.org//NONSGML plone.app.event//EN
X-WR-TIMEZONE:Europe/Rome
BEGIN:VEVENT
SUMMARY:Commissione Affari Istituzionali
DTSTART;TZID=Europe/Rome:20230313T183000
DTEND;TZID=Europe/Rome:20230313T200000
DTSTAMP:20260419T152838Z
UID:07a2411a27a744f085fa80520eab0805@www.comune.parma.it
CATEGORIES:Home page,commissioni consiliari
CREATED:20230310T102146Z
LAST-MODIFIED:20230718T084833Z
URL:https://www.comune.parma.it/api/it/vivere-parma/eventi/commissione-aff
 ari-istituzionali-1
END:VEVENT
BEGIN:VTIMEZONE
TZID:Europe/Rome
X-LIC-LOCATION:Europe/Rome
BEGIN:STANDARD
DTSTART:20221030T020000
TZNAME:CET
TZOFFSETFROM:+0200
TZOFFSETTO:+0100
END:STANDARD
END:VTIMEZONE
END:VCALENDAR
