BEGIN:VCALENDAR
VERSION:2.0
PRODID:-//Plone.org//NONSGML plone.app.event//EN
X-WR-TIMEZONE:Europe/Rome
BEGIN:VEVENT
SUMMARY:Commissione Affari Istituzionali
DTSTART;TZID=Europe/Rome:20250120T183000
DTEND;TZID=Europe/Rome:20250120T193000
DTSTAMP:20260421T155634Z
UID:cebc74ffc63942f09e75b038c713bcb2@www.comune.parma.it
CATEGORIES:Home page,commissioni consiliari
CREATED:20250114T160040Z
DESCRIPTION:Convocazione della Commissione Consiliare Affari Istituzionali
LAST-MODIFIED:20250114T160349Z
URL:https://www.comune.parma.it/api/it/vivere-parma/eventi/commissione-aff
 ari-istituzionali-20-01-2025/2025-01-20
END:VEVENT
BEGIN:VTIMEZONE
TZID:Europe/Rome
X-LIC-LOCATION:Europe/Rome
BEGIN:STANDARD
DTSTART:20241027T020000
TZNAME:CET
TZOFFSETFROM:+0200
TZOFFSETTO:+0100
END:STANDARD
END:VTIMEZONE
END:VCALENDAR
