BEGIN:VCALENDAR
VERSION:2.0
PRODID:-//Plone.org//NONSGML plone.app.event//EN
X-WR-TIMEZONE:Europe/Rome
BEGIN:VEVENT
SUMMARY:Commissione congiunta I e VI
DTSTART;TZID=Europe/Rome:20230726T183000
DTEND;TZID=Europe/Rome:20230726T200000
DTSTAMP:20260419T203447Z
UID:fa6b6fc342cd4fb6bfa20ef37661bee8@www.comune.parma.it
CATEGORIES:Home page,commissioni consiliari
CREATED:20230724T072106Z
DESCRIPTION:Bilancio e Affari Finanziari e Welfare\, Politiche abitative e
  Lavoro.
LAST-MODIFIED:20230727T093603Z
URL:https://www.comune.parma.it/api/it/vivere-parma/eventi/commissione-con
 giunta-i-e-vi/2023-07-26
END:VEVENT
BEGIN:VTIMEZONE
TZID:Europe/Rome
X-LIC-LOCATION:Europe/Rome
BEGIN:DAYLIGHT
DTSTART:20230326T030000
TZNAME:CEST
TZOFFSETFROM:+0100
TZOFFSETTO:+0200
END:DAYLIGHT
END:VTIMEZONE
END:VCALENDAR
