BEGIN:VCALENDAR
VERSION:2.0
PRODID:-//Plone.org//NONSGML plone.app.event//EN
X-WR-TIMEZONE:Europe/Rome
BEGIN:VEVENT
SUMMARY:Commissione congiunta III-VI
DTSTART;TZID=Europe/Rome:20230124T180000
DTEND;TZID=Europe/Rome:20230124T200000
DTSTAMP:20260421T121143Z
UID:7e0771da56e740ca838c654f681571fb@www.comune.parma.it
CATEGORIES:commissioni consiliari,Home page
CREATED:20230118T085411Z
DESCRIPTION:“Urbanistica\, Attività Produttive e Protezione civile” e
  “Welfare\, Politiche abitative e Lavoro” 
LAST-MODIFIED:20230718T084854Z
URL:https://www.comune.parma.it/api/it/vivere-parma/eventi/commissione-con
 giunta-iii-vi/2023-01-24
END:VEVENT
BEGIN:VTIMEZONE
TZID:Europe/Rome
X-LIC-LOCATION:Europe/Rome
BEGIN:STANDARD
DTSTART:20221030T020000
TZNAME:CET
TZOFFSETFROM:+0200
TZOFFSETTO:+0100
END:STANDARD
END:VTIMEZONE
END:VCALENDAR
