BEGIN:VCALENDAR
VERSION:2.0
PRODID:-//Plone.org//NONSGML plone.app.event//EN
X-WR-TIMEZONE:Europe/Rome
BEGIN:VEVENT
SUMMARY:Commissione congiunta V-VI
DTSTART;TZID=Europe/Rome:20250912T173000
DTEND;TZID=Europe/Rome:20250912T190000
DTSTAMP:20260419T204515Z
UID:d851d08a297e46b69150997bcd8ad98b@www.comune.parma.it
CATEGORIES:commissioni consiliari,Home page
CREATED:20250905T095346Z
DESCRIPTION:Convocazione della Commissione Consiliare congiunta V “Scuol
 a\, Giovani\, Sicurezza e Partecipazione” e VI “Welfare\, Politiche ab
 itative e Lavoro”
LAST-MODIFIED:20250922T104848Z
URL:https://www.comune.parma.it/api/it/vivere-parma/eventi/commissione-con
 giunta-v-vi-12-09-2025/2025-09-12
END:VEVENT
BEGIN:VTIMEZONE
TZID:Europe/Rome
X-LIC-LOCATION:Europe/Rome
BEGIN:DAYLIGHT
DTSTART:20250330T030000
TZNAME:CEST
TZOFFSETFROM:+0100
TZOFFSETTO:+0200
END:DAYLIGHT
END:VTIMEZONE
END:VCALENDAR
