BEGIN:VCALENDAR
VERSION:2.0
PRODID:-//Plone.org//NONSGML plone.app.event//EN
X-WR-TIMEZONE:Europe/Rome
BEGIN:VEVENT
SUMMARY:Commissione Consiliare congiunta I e II
DTSTART;TZID=Europe/Rome:20231020T183000
DTEND;TZID=Europe/Rome:20231020T193000
DTSTAMP:20260420T154600Z
UID:ca5f743109294a2a9bb05ff52a938d92@www.comune.parma.it
CATEGORIES:Home page,commissioni consiliari
CREATED:20231017T124757Z
DESCRIPTION:Bilancio e Affari Finanziari - Garanzia e Controllo
LAST-MODIFIED:20231017T125124Z
URL:https://www.comune.parma.it/api/it/vivere-parma/eventi/commissione-con
 siliare-congiunta-i-e-ii-4
END:VEVENT
BEGIN:VTIMEZONE
TZID:Europe/Rome
X-LIC-LOCATION:Europe/Rome
BEGIN:DAYLIGHT
DTSTART:20230326T030000
TZNAME:CEST
TZOFFSETFROM:+0100
TZOFFSETTO:+0200
END:DAYLIGHT
END:VTIMEZONE
END:VCALENDAR
