BEGIN:VCALENDAR
VERSION:2.0
PRODID:-//Plone.org//NONSGML plone.app.event//EN
X-WR-TIMEZONE:Europe/Rome
BEGIN:VEVENT
SUMMARY:Commissione consiliare congiunta I e II
DTSTART;TZID=Europe/Rome:20230125T180000
DTEND;TZID=Europe/Rome:20230125T200000
DTSTAMP:20260419T183256Z
UID:3c5b70e209fe4fb5a372e9b664fc7044@www.comune.parma.it
CATEGORIES:Home page,commissioni consiliari
CREATED:20221213T081812Z
DESCRIPTION:Bilancio e Affari Finanziari e Garanzia e controllo
LAST-MODIFIED:20240122T121916Z
URL:https://www.comune.parma.it/api/it/vivere-parma/eventi/commissione-con
 siliare-congiunta-i-e-ii-5-12-23
END:VEVENT
BEGIN:VTIMEZONE
TZID:Europe/Rome
X-LIC-LOCATION:Europe/Rome
BEGIN:STANDARD
DTSTART:20221030T020000
TZNAME:CET
TZOFFSETFROM:+0200
TZOFFSETTO:+0100
END:STANDARD
END:VTIMEZONE
END:VCALENDAR
