BEGIN:VCALENDAR
VERSION:2.0
PRODID:-//Plone.org//NONSGML plone.app.event//EN
X-WR-TIMEZONE:Europe/Rome
BEGIN:VEVENT
SUMMARY:Commissione Consiliare congiunta I e II
DTSTART;TZID=Europe/Rome:20231207T183000
DTEND;TZID=Europe/Rome:20231207T200000
DTSTAMP:20260419T172953Z
UID:d278f14aed3942caa95d1c0895827d6c@www.comune.parma.it
CATEGORIES:Home page,commissioni consiliari
CREATED:20231205T094719Z
DESCRIPTION:Bilancio e Affari Finanziari\, Garanzia e Controllo
LAST-MODIFIED:20231205T113634Z
URL:https://www.comune.parma.it/api/it/vivere-parma/eventi/commissione-con
 siliare-congiunta-i-e-ii-5/2023-12-07
END:VEVENT
BEGIN:VTIMEZONE
TZID:Europe/Rome
X-LIC-LOCATION:Europe/Rome
BEGIN:STANDARD
DTSTART:20231029T020000
TZNAME:CET
TZOFFSETFROM:+0200
TZOFFSETTO:+0100
END:STANDARD
END:VTIMEZONE
END:VCALENDAR
