BEGIN:VCALENDAR
VERSION:2.0
PRODID:-//Plone.org//NONSGML plone.app.event//EN
X-WR-TIMEZONE:Europe/Rome
BEGIN:VEVENT
SUMMARY:Commissione Consiliare Congiunta I e VI
DTSTART;TZID=Europe/Rome:20250508T173000
DTEND;TZID=Europe/Rome:20250508T183000
DTSTAMP:20260419T183420Z
UID:132c81fae7734b518e9439a649a8e543@www.comune.parma.it
CATEGORIES:Home page,commissioni consiliari
CREATED:20250610T092043Z
DESCRIPTION:Convocazione della Commissione Consiliare Congiunta Prima °Bi
 lancio e Affari Istituzionali° e Sesta °Welfare\, Politiche Abitative e 
 Lavoro°.
LAST-MODIFIED:20250610T092131Z
URL:https://www.comune.parma.it/api/it/vivere-parma/eventi/commissione-con
 siliare-congiunta-i-e-vi-08-05-2025
END:VEVENT
BEGIN:VTIMEZONE
TZID:Europe/Rome
X-LIC-LOCATION:Europe/Rome
BEGIN:DAYLIGHT
DTSTART:20250330T030000
TZNAME:CEST
TZOFFSETFROM:+0100
TZOFFSETTO:+0200
END:DAYLIGHT
END:VTIMEZONE
END:VCALENDAR
