BEGIN:VCALENDAR
VERSION:2.0
PRODID:-//Plone.org//NONSGML plone.app.event//EN
X-WR-TIMEZONE:Europe/Rome
BEGIN:VEVENT
SUMMARY:Commissione Consiliare congiunta I e VII
DTSTART;TZID=Europe/Rome:20260310T173000
DTEND;TZID=Europe/Rome:20260310T183000
DTSTAMP:20260421T134841Z
UID:d8abf0b261334613a91e3043e29ba970@www.comune.parma.it
CATEGORIES:Home page,commissioni consiliari
CREATED:20260310T112125Z
DESCRIPTION:Convocazione della Commissione Consiliare Congiunta Prima "Bil
 ancio e Affari Finanziari" e Settima "Cultura\, Sport\, Turismo e Dirittii
 "
LAST-MODIFIED:20260310T112831Z
URL:https://www.comune.parma.it/api/it/vivere-parma/eventi/commissione-con
 siliare-congiunta-i-e-vii-10-03-2026
END:VEVENT
BEGIN:VTIMEZONE
TZID:Europe/Rome
X-LIC-LOCATION:Europe/Rome
BEGIN:STANDARD
DTSTART:20251026T020000
TZNAME:CET
TZOFFSETFROM:+0200
TZOFFSETTO:+0100
END:STANDARD
END:VTIMEZONE
END:VCALENDAR
