BEGIN:VCALENDAR
VERSION:2.0
PRODID:-//Plone.org//NONSGML plone.app.event//EN
X-WR-TIMEZONE:Europe/Rome
BEGIN:VEVENT
SUMMARY:Commissione Consiliare congiunta II e IV
DTSTART;TZID=Europe/Rome:20230322T180000
DTEND;TZID=Europe/Rome:20230322T200000
DTSTAMP:20260419T221956Z
UID:4dba1d4860b243ffa9a00276ad6f411d@www.comune.parma.it
CATEGORIES:Home page,commissioni consiliari
CREATED:20230316T091712Z
DESCRIPTION:Garanzia e Controllo e Ambiente\, Mobilità e Transizione digi
 tale.
LAST-MODIFIED:20230718T084832Z
URL:https://www.comune.parma.it/api/it/vivere-parma/eventi/commissione-con
 siliare-congiunta-ii-e-iv
END:VEVENT
BEGIN:VTIMEZONE
TZID:Europe/Rome
X-LIC-LOCATION:Europe/Rome
BEGIN:STANDARD
DTSTART:20221030T020000
TZNAME:CET
TZOFFSETFROM:+0200
TZOFFSETTO:+0100
END:STANDARD
END:VTIMEZONE
END:VCALENDAR
