BEGIN:VCALENDAR
VERSION:2.0
PRODID:-//Plone.org//NONSGML plone.app.event//EN
X-WR-TIMEZONE:Europe/Rome
BEGIN:VEVENT
SUMMARY:Commissione Consiliare Congiunta II e IV
DTSTART;TZID=Europe/Rome:20240508T161500
DTEND;TZID=Europe/Rome:20240508T171500
DTSTAMP:20260421T154036Z
UID:817c85d6232e48bda140c29e1aab7c75@www.comune.parma.it
CATEGORIES:Home page,commissioni consiliari
CREATED:20240506T092610Z
DESCRIPTION:Convocazione della commissione congiunta II: Garanzia e Contro
 llo e IV: Ambiente\, Mobilità e Transizione Digitale
LAST-MODIFIED:20240508T145347Z
URL:https://www.comune.parma.it/api/it/vivere-parma/eventi/commissione-con
 siliare-congiunta-ii-e-v-08-05-2024/2024-05-08
END:VEVENT
BEGIN:VTIMEZONE
TZID:Europe/Rome
X-LIC-LOCATION:Europe/Rome
BEGIN:DAYLIGHT
DTSTART:20240331T030000
TZNAME:CEST
TZOFFSETFROM:+0100
TZOFFSETTO:+0200
END:DAYLIGHT
END:VTIMEZONE
END:VCALENDAR
