BEGIN:VCALENDAR
VERSION:2.0
PRODID:-//Plone.org//NONSGML plone.app.event//EN
X-WR-TIMEZONE:Europe/Rome
BEGIN:VEVENT
SUMMARY:Commissione Consiliare congiunta II e VI
DTSTART;TZID=Europe/Rome:20230628T183000
DTEND;TZID=Europe/Rome:20230628T200000
DTSTAMP:20260421T154621Z
UID:abed951dc5644d22b1930f48175a26e9@www.comune.parma.it
CATEGORIES:Home page,commissioni consiliari
CREATED:20230623T124800Z
DESCRIPTION:Garanzia e controllo - Welfare\, Politiche abitative e Lavoro
LAST-MODIFIED:20230718T084945Z
URL:https://www.comune.parma.it/api/it/vivere-parma/eventi/commissione-con
 siliare-congiunta-ii-e-vi
END:VEVENT
BEGIN:VTIMEZONE
TZID:Europe/Rome
X-LIC-LOCATION:Europe/Rome
BEGIN:DAYLIGHT
DTSTART:20230326T030000
TZNAME:CEST
TZOFFSETFROM:+0100
TZOFFSETTO:+0200
END:DAYLIGHT
END:VTIMEZONE
END:VCALENDAR
