BEGIN:VCALENDAR
VERSION:2.0
PRODID:-//Plone.org//NONSGML plone.app.event//EN
X-WR-TIMEZONE:Europe/Rome
BEGIN:VEVENT
SUMMARY:Commissione consiliare congiunta II e VII
DTSTART;TZID=Europe/Rome:20251021T183000
DTEND;TZID=Europe/Rome:20251021T190000
DTSTAMP:20260421T140551Z
UID:4c8e38bddb53436bb12076118eaa1798@www.comune.parma.it
CATEGORIES:Home page,commissioni consiliari
CREATED:20251020T095559Z
DESCRIPTION:Convocazione della Commissione Consiliare congiunta Seconda 
 “Garanzia e Controllo” e Settima “Cultura\, Sport\, Turismo e Diritt
 i” 
LAST-MODIFIED:20251022T081446Z
URL:https://www.comune.parma.it/api/it/vivere-parma/eventi/commissione-con
 siliare-congiunta-ii-e-vii-21-10-2025/2025-10-21
END:VEVENT
BEGIN:VTIMEZONE
TZID:Europe/Rome
X-LIC-LOCATION:Europe/Rome
BEGIN:DAYLIGHT
DTSTART:20250330T030000
TZNAME:CEST
TZOFFSETFROM:+0100
TZOFFSETTO:+0200
END:DAYLIGHT
END:VTIMEZONE
END:VCALENDAR
