BEGIN:VCALENDAR
VERSION:2.0
PRODID:-//Plone.org//NONSGML plone.app.event//EN
X-WR-TIMEZONE:Europe/Rome
BEGIN:VEVENT
SUMMARY:Commissione Consiliare congiunta II e VII
DTSTART;TZID=Europe/Rome:20230405T180000
DTEND;TZID=Europe/Rome:20230405T200000
DTSTAMP:20260419T165109Z
UID:e1d386bc39a5457383c23f2b090aa6ba@www.comune.parma.it
CATEGORIES:Home page,commissioni consiliari
CREATED:20230320T145112Z
DESCRIPTION:Cultura\, Sport\, Turismo e Diritti e Garanzia e controllo.
LAST-MODIFIED:20230718T084830Z
URL:https://www.comune.parma.it/api/it/vivere-parma/eventi/commissione-con
 siliare-congiunta-ii-e-vii
END:VEVENT
BEGIN:VTIMEZONE
TZID:Europe/Rome
X-LIC-LOCATION:Europe/Rome
BEGIN:DAYLIGHT
DTSTART:20230326T030000
TZNAME:CEST
TZOFFSETFROM:+0100
TZOFFSETTO:+0200
END:DAYLIGHT
END:VTIMEZONE
END:VCALENDAR
