BEGIN:VCALENDAR
VERSION:2.0
PRODID:-//Plone.org//NONSGML plone.app.event//EN
X-WR-TIMEZONE:Europe/Rome
BEGIN:VEVENT
SUMMARY:Commissione Consiliare congiunta III-IV
DTSTART;TZID=Europe/Rome:20240710T163000
DTEND;TZID=Europe/Rome:20240710T180000
DTSTAMP:20260419T153208Z
UID:19e0a12e10b9401ea9cc56c4cd71f8ea@www.comune.parma.it
CATEGORIES:Home page,commissioni consiliari
CREATED:20240626T082939Z
DESCRIPTION:Convocazione in seduta congiunta della Commissione Consiliare 
 terza "Urbanistica\, Attività Produttive e Protezione civile" e quarta "A
 mbiente\, Mobilità e Transizione digitale".
LAST-MODIFIED:20241024T103535Z
URL:https://www.comune.parma.it/api/it/vivere-parma/eventi/commissione-con
 siliare-congiunta-iii-iv-10-07-2024
END:VEVENT
BEGIN:VTIMEZONE
TZID:Europe/Rome
X-LIC-LOCATION:Europe/Rome
BEGIN:DAYLIGHT
DTSTART:20240331T030000
TZNAME:CEST
TZOFFSETFROM:+0100
TZOFFSETTO:+0200
END:DAYLIGHT
END:VTIMEZONE
END:VCALENDAR
