BEGIN:VCALENDAR
VERSION:2.0
PRODID:-//Plone.org//NONSGML plone.app.event//EN
X-WR-TIMEZONE:Europe/Rome
BEGIN:VEVENT
SUMMARY:Commissione Consiliare congiunta IV e III
DTSTART;TZID=Europe/Rome:20240306T180000
DTEND;TZID=Europe/Rome:20240306T190000
DTSTAMP:20260419T203722Z
UID:d111859315f74602973cc95ed84e8012@www.comune.parma.it
CATEGORIES:Home page,commissioni consiliari
CREATED:20240304T130110Z
DESCRIPTION:Si comunica cehe la Commissione Consiliare congiunta IV (Urban
 istica\, Attività produttive e Protezione Civile) e III (Ambiente\, Mobil
 ità e Transizione Digitale) è convocata per il giorno 6 marzo 2024 alle 
 ore 18
LAST-MODIFIED:20240304T131027Z
URL:https://www.comune.parma.it/api/it/vivere-parma/eventi/commissione-con
 siliare-congiunta-iv-e-iii-06-03-2024
END:VEVENT
BEGIN:VTIMEZONE
TZID:Europe/Rome
X-LIC-LOCATION:Europe/Rome
BEGIN:STANDARD
DTSTART:20231029T020000
TZNAME:CET
TZOFFSETFROM:+0200
TZOFFSETTO:+0100
END:STANDARD
END:VTIMEZONE
END:VCALENDAR
