BEGIN:VCALENDAR
VERSION:2.0
PRODID:-//Plone.org//NONSGML plone.app.event//EN
X-WR-TIMEZONE:Europe/Rome
BEGIN:VEVENT
SUMMARY:Commissione Consiliare Congiunta V e Affari Istituzionali
DTSTART;TZID=Europe/Rome:20240506T180000
DTEND;TZID=Europe/Rome:20240506T190000
DTSTAMP:20260419T222058Z
UID:f8e2072979684a8580d588eaceaedaf0@www.comune.parma.it
CATEGORIES:Home page,commissioni consiliari
CREATED:20240506T082117Z
DESCRIPTION:Convocazione della commissione congiunta V: Scuola\, Giovani\,
  Sicurezza e Partecipazione - Affari Istituzionali
LAST-MODIFIED:20240506T083625Z
URL:https://www.comune.parma.it/api/it/vivere-parma/eventi/commissione-con
 siliare-congiunta-v-e-affari-istituzionali
END:VEVENT
BEGIN:VTIMEZONE
TZID:Europe/Rome
X-LIC-LOCATION:Europe/Rome
BEGIN:DAYLIGHT
DTSTART:20240331T030000
TZNAME:CEST
TZOFFSETFROM:+0100
TZOFFSETTO:+0200
END:DAYLIGHT
END:VTIMEZONE
END:VCALENDAR
