BEGIN:VCALENDAR
VERSION:2.0
PRODID:-//Plone.org//NONSGML plone.app.event//EN
X-WR-TIMEZONE:Europe/Rome
BEGIN:VEVENT
SUMMARY:Commissione Consiliare I
DTSTART;TZID=Europe/Rome:20240606T180000
DTEND;TZID=Europe/Rome:20240606T190000
DTSTAMP:20260419T204232Z
UID:50d4768483d04be9aa126e5abcdafc2f@www.comune.parma.it
CATEGORIES:Home page,commissioni consiliari
CREATED:20240604T070842Z
DESCRIPTION:Convocazione della prima Commissione Consiliare permanente Bil
 ancio e Affari Finanziari
LAST-MODIFIED:20240604T070954Z
URL:https://www.comune.parma.it/api/it/vivere-parma/eventi/commissione-con
 siliare-i-06-06-2024/2024-06-06
END:VEVENT
BEGIN:VTIMEZONE
TZID:Europe/Rome
X-LIC-LOCATION:Europe/Rome
BEGIN:DAYLIGHT
DTSTART:20240331T030000
TZNAME:CEST
TZOFFSETFROM:+0100
TZOFFSETTO:+0200
END:DAYLIGHT
END:VTIMEZONE
END:VCALENDAR
