BEGIN:VCALENDAR
VERSION:2.0
PRODID:-//Plone.org//NONSGML plone.app.event//EN
X-WR-TIMEZONE:Europe/Rome
BEGIN:VEVENT
SUMMARY:Commissione Consiliare I
DTSTART;TZID=Europe/Rome:20241010T173000
DTEND;TZID=Europe/Rome:20241010T183000
DTSTAMP:20260421T154113Z
UID:ca835a16218b456aa8a14dd39a5e7f31@www.comune.parma.it
CATEGORIES:Home page,commissioni consiliari
CREATED:20241007T143027Z
DESCRIPTION:Convocazione della prima Commissione Consiliare Permanente "Bi
 lancio e Affari Finanziari"
LAST-MODIFIED:20241007T143335Z
URL:https://www.comune.parma.it/api/it/vivere-parma/eventi/commissione-con
 siliare-i-10-10-2024/2024-10-10
END:VEVENT
BEGIN:VTIMEZONE
TZID:Europe/Rome
X-LIC-LOCATION:Europe/Rome
BEGIN:DAYLIGHT
DTSTART:20240331T030000
TZNAME:CEST
TZOFFSETFROM:+0100
TZOFFSETTO:+0200
END:DAYLIGHT
END:VTIMEZONE
END:VCALENDAR
