BEGIN:VCALENDAR
VERSION:2.0
PRODID:-//Plone.org//NONSGML plone.app.event//EN
X-WR-TIMEZONE:Europe/Rome
BEGIN:VEVENT
SUMMARY:Commissione Consiliare I
DTSTART;TZID=Europe/Rome:20251210T170000
DTEND;TZID=Europe/Rome:20251210T180000
DTSTAMP:20260421T102341Z
UID:496320c73df541ae9f840356b63d7dd6@www.comune.parma.it
CATEGORIES:Home page,commissioni consiliari
CREATED:20251209T140302Z
DESCRIPTION:Convocazione della prima Commissione Consiliare permanete "Bil
 ancio e Affari Finanziari"
LAST-MODIFIED:20251211T092249Z
URL:https://www.comune.parma.it/api/it/vivere-parma/eventi/commissione-con
 siliare-i-10-12-2025
END:VEVENT
BEGIN:VTIMEZONE
TZID:Europe/Rome
X-LIC-LOCATION:Europe/Rome
BEGIN:STANDARD
DTSTART:20251026T020000
TZNAME:CET
TZOFFSETFROM:+0200
TZOFFSETTO:+0100
END:STANDARD
END:VTIMEZONE
END:VCALENDAR
