BEGIN:VCALENDAR
VERSION:2.0
PRODID:-//Plone.org//NONSGML plone.app.event//EN
X-WR-TIMEZONE:Europe/Rome
BEGIN:VEVENT
SUMMARY:Commissione Consiliare I
DTSTART;TZID=Europe/Rome:20230321T181500
DTEND;TZID=Europe/Rome:20230321T200000
DTSTAMP:20260420T031802Z
UID:53d0c399640045a59ecf77e03ade05d9@www.comune.parma.it
CATEGORIES:Home page,commissioni consiliari
CREATED:20230317T124731Z
DESCRIPTION:Bilancio e Affari Finanziari
LAST-MODIFIED:20230718T084831Z
URL:https://www.comune.parma.it/api/it/vivere-parma/eventi/commissione-con
 siliare-i-12/2023-03-21
END:VEVENT
BEGIN:VTIMEZONE
TZID:Europe/Rome
X-LIC-LOCATION:Europe/Rome
BEGIN:STANDARD
DTSTART:20221030T020000
TZNAME:CET
TZOFFSETFROM:+0200
TZOFFSETTO:+0100
END:STANDARD
END:VTIMEZONE
END:VCALENDAR
