BEGIN:VCALENDAR
VERSION:2.0
PRODID:-//Plone.org//NONSGML plone.app.event//EN
X-WR-TIMEZONE:Europe/Rome
BEGIN:VEVENT
SUMMARY:Commissione Consiliare I
DTSTART;TZID=Europe/Rome:20240320T190000
DTEND;TZID=Europe/Rome:20240320T200000
DTSTAMP:20260421T140715Z
UID:6851c4807af54c7bad559e3182f5b39a@www.comune.parma.it
CATEGORIES:Home page,commissioni consiliari
CREATED:20240320T074156Z
DESCRIPTION:Bilancio e Affari Finanziari
LAST-MODIFIED:20240321T131229Z
URL:https://www.comune.parma.it/api/it/vivere-parma/eventi/commissione-con
 siliare-i-20-03-2024/2024-03-20
END:VEVENT
BEGIN:VTIMEZONE
TZID:Europe/Rome
X-LIC-LOCATION:Europe/Rome
BEGIN:STANDARD
DTSTART:20231029T020000
TZNAME:CET
TZOFFSETFROM:+0200
TZOFFSETTO:+0100
END:STANDARD
END:VTIMEZONE
END:VCALENDAR
