BEGIN:VCALENDAR
VERSION:2.0
PRODID:-//Plone.org//NONSGML plone.app.event//EN
X-WR-TIMEZONE:Europe/Rome
BEGIN:VEVENT
SUMMARY:Commissione Consiliare I
DTSTART;TZID=Europe/Rome:20230920T183000
DTEND;TZID=Europe/Rome:20230920T193000
DTSTAMP:20260420T012641Z
UID:53e780adea4f405fa25e7b7aa8d494a0@www.comune.parma.it
CATEGORIES:Home page,commissioni consiliari
CREATED:20230918T145654Z
DESCRIPTION:Bilancio e Affari Finanziari
LAST-MODIFIED:20230920T072918Z
URL:https://www.comune.parma.it/api/it/vivere-parma/eventi/commissione-con
 siliare-i-21/2023-09-20
END:VEVENT
BEGIN:VTIMEZONE
TZID:Europe/Rome
X-LIC-LOCATION:Europe/Rome
BEGIN:DAYLIGHT
DTSTART:20230326T030000
TZNAME:CEST
TZOFFSETFROM:+0100
TZOFFSETTO:+0200
END:DAYLIGHT
END:VTIMEZONE
END:VCALENDAR
