BEGIN:VCALENDAR
VERSION:2.0
PRODID:-//Plone.org//NONSGML plone.app.event//EN
X-WR-TIMEZONE:Europe/Rome
BEGIN:VEVENT
SUMMARY:Commissione Consiliare I
DTSTART;TZID=Europe/Rome:20260122T180000
DTEND;TZID=Europe/Rome:20260122T190000
DTSTAMP:20260419T155244Z
UID:51b84d6ed17e455bafede5331bb6c0f4@www.comune.parma.it
CATEGORIES:Home page,commissioni consiliari
CREATED:20260119T093330Z
DESCRIPTION:Convocazione della prima Commissione Consiliare Permanente "Bi
 lancio e Affari Finanziari"
LAST-MODIFIED:20260126T094159Z
URL:https://www.comune.parma.it/api/it/vivere-parma/eventi/commissione-con
 siliare-i-22-01-2026
END:VEVENT
BEGIN:VTIMEZONE
TZID:Europe/Rome
X-LIC-LOCATION:Europe/Rome
BEGIN:STANDARD
DTSTART:20251026T020000
TZNAME:CET
TZOFFSETFROM:+0200
TZOFFSETTO:+0100
END:STANDARD
END:VTIMEZONE
END:VCALENDAR
