BEGIN:VCALENDAR
VERSION:2.0
PRODID:-//Plone.org//NONSGML plone.app.event//EN
X-WR-TIMEZONE:Europe/Rome
BEGIN:VEVENT
SUMMARY:Commissione Consiliare I
DTSTART;TZID=Europe/Rome:20250922T173000
DTEND;TZID=Europe/Rome:20250922T183000
DTSTAMP:20260421T135230Z
UID:86395f075ab74f989740852cab699664@www.comune.parma.it
CATEGORIES:Home page,commissioni consiliari
CREATED:20250919T122306Z
DESCRIPTION:Convocazione della Prima Commissione Consiliare Permanete "Bil
 ancio e Affari Finanziari"
LAST-MODIFIED:20250919T122828Z
URL:https://www.comune.parma.it/api/it/vivere-parma/eventi/commissione-con
 siliare-i-22-09-2025/2025-09-22
END:VEVENT
BEGIN:VTIMEZONE
TZID:Europe/Rome
X-LIC-LOCATION:Europe/Rome
BEGIN:DAYLIGHT
DTSTART:20250330T030000
TZNAME:CEST
TZOFFSETFROM:+0100
TZOFFSETTO:+0200
END:DAYLIGHT
END:VTIMEZONE
END:VCALENDAR
