BEGIN:VCALENDAR
VERSION:2.0
PRODID:-//Plone.org//NONSGML plone.app.event//EN
X-WR-TIMEZONE:Europe/Rome
BEGIN:VEVENT
SUMMARY:Commissione Consiliare I
DTSTART;TZID=Europe/Rome:20250523T183000
DTEND;TZID=Europe/Rome:20250523T193000
DTSTAMP:20260421T121217Z
UID:e0adeecfd5fc48ee9050d10f75369410@www.comune.parma.it
CATEGORIES:Home page,commissioni consiliari
CREATED:20250520T102654Z
DESCRIPTION:Convocazione della Prima Commissione Consiliare Permanente °B
 ilancio e Affari Finanziari"
LAST-MODIFIED:20250520T102829Z
URL:https://www.comune.parma.it/api/it/vivere-parma/eventi/commissione-con
 siliare-i-23-05-2025
END:VEVENT
BEGIN:VTIMEZONE
TZID:Europe/Rome
X-LIC-LOCATION:Europe/Rome
BEGIN:DAYLIGHT
DTSTART:20250330T030000
TZNAME:CEST
TZOFFSETFROM:+0100
TZOFFSETTO:+0200
END:DAYLIGHT
END:VTIMEZONE
END:VCALENDAR
