BEGIN:VCALENDAR
VERSION:2.0
PRODID:-//Plone.org//NONSGML plone.app.event//EN
X-WR-TIMEZONE:Europe/Rome
BEGIN:VEVENT
SUMMARY:Commissione Consiliare I
DTSTART;TZID=Europe/Rome:20231205T183000
DTEND;TZID=Europe/Rome:20231205T200000
DTSTAMP:20260419T183601Z
UID:8b85eca79d16422cb9673f78fe5ac00a@www.comune.parma.it
CATEGORIES:Home page,commissioni consiliari
CREATED:20231201T145041Z
DESCRIPTION:Bilancio e Affari Finanziari
LAST-MODIFIED:20231206T074911Z
URL:https://www.comune.parma.it/api/it/vivere-parma/eventi/commissione-con
 siliare-i-25/2023-12-05
END:VEVENT
BEGIN:VTIMEZONE
TZID:Europe/Rome
X-LIC-LOCATION:Europe/Rome
BEGIN:STANDARD
DTSTART:20231029T020000
TZNAME:CET
TZOFFSETFROM:+0200
TZOFFSETTO:+0100
END:STANDARD
END:VTIMEZONE
END:VCALENDAR
