BEGIN:VCALENDAR
VERSION:2.0
PRODID:-//Plone.org//NONSGML plone.app.event//EN
X-WR-TIMEZONE:Europe/Rome
BEGIN:VEVENT
SUMMARY:Commissione Consiliare I
DTSTART;TZID=Europe/Rome:20231214T174500
DTEND;TZID=Europe/Rome:20231214T190000
DTSTAMP:20260419T172945Z
UID:095e648440d34ffba540c5c2f1655110@www.comune.parma.it
CATEGORIES:Home page,commissioni consiliari
CREATED:20231213T114015Z
DESCRIPTION:Bilancio e Affari Finanziari
LAST-MODIFIED:20231213T114349Z
URL:https://www.comune.parma.it/api/it/vivere-parma/eventi/commissione-con
 siliare-i-26/2023-12-14
END:VEVENT
BEGIN:VTIMEZONE
TZID:Europe/Rome
X-LIC-LOCATION:Europe/Rome
BEGIN:STANDARD
DTSTART:20231029T020000
TZNAME:CET
TZOFFSETFROM:+0200
TZOFFSETTO:+0100
END:STANDARD
END:VTIMEZONE
END:VCALENDAR
