BEGIN:VCALENDAR
VERSION:2.0
PRODID:-//Plone.org//NONSGML plone.app.event//EN
X-WR-TIMEZONE:Europe/Rome
BEGIN:VEVENT
SUMMARY:Commissione Consiliare I
DTSTART;TZID=Europe/Rome:20250327T183000
DTEND;TZID=Europe/Rome:20250327T193000
DTSTAMP:20260419T183422Z
UID:b257a655378346378050e60d7a84169d@www.comune.parma.it
CATEGORIES:Home page,commissioni consiliari
CREATED:20250325T115532Z
DESCRIPTION:Convocazione della prima Commissione Consiliare Permanente °
 “Bilancio e Affari Finanziari”
LAST-MODIFIED:20250328T092513Z
URL:https://www.comune.parma.it/api/it/vivere-parma/eventi/commissione-con
 siliare-i-27-03-2025
END:VEVENT
BEGIN:VTIMEZONE
TZID:Europe/Rome
X-LIC-LOCATION:Europe/Rome
BEGIN:STANDARD
DTSTART:20241027T020000
TZNAME:CET
TZOFFSETFROM:+0200
TZOFFSETTO:+0100
END:STANDARD
END:VTIMEZONE
END:VCALENDAR
