BEGIN:VCALENDAR
VERSION:2.0
PRODID:-//Plone.org//NONSGML plone.app.event//EN
X-WR-TIMEZONE:Europe/Rome
BEGIN:VEVENT
SUMMARY:Commissione Consiliare I
DTSTART;TZID=Europe/Rome:20240215T180000
DTEND;TZID=Europe/Rome:20240215T190000
DTSTAMP:20260421T140332Z
UID:d564a383793a4c80ac617103d8b2a2ed@www.comune.parma.it
CATEGORIES:Home page,commissioni consiliari
CREATED:20240213T091528Z
DESCRIPTION:Convocazione della prima Commissione Consiliare Permanente Bil
 ancio e Affari Finanziari
LAST-MODIFIED:20240213T091808Z
URL:https://www.comune.parma.it/api/it/vivere-parma/eventi/commissione-con
 siliare-i-27/2024-02-15
END:VEVENT
BEGIN:VTIMEZONE
TZID:Europe/Rome
X-LIC-LOCATION:Europe/Rome
BEGIN:STANDARD
DTSTART:20231029T020000
TZNAME:CET
TZOFFSETFROM:+0200
TZOFFSETTO:+0100
END:STANDARD
END:VTIMEZONE
END:VCALENDAR
